BEGIN:VCALENDAR
VERSION:2.0
PRODID:icalendar-ruby
CALSCALE:GREGORIAN
METHOD:PUBLISH
BEGIN:VEVENT
DTSTAMP:20260421T133651Z
UID:8-277787@leonardsfork.com
DTSTART:20260816T140000Z
DTEND:20260816T150000Z
CLASS:PUBLIC
CREATED:20260421T082215
DESCRIPTION:
LAST-MODIFIED:20260421T082215
LOCATION:
SUMMARY:Sunday School
URL;VALUE=URI:https://www.leonardsfork.com/events/sunday-school/2026-08-16
END:VEVENT
END:VCALENDAR
