BEGIN:VCALENDAR
VERSION:2.0
PRODID:icalendar-ruby
CALSCALE:GREGORIAN
METHOD:PUBLISH
BEGIN:VEVENT
DTSTAMP:20260421T170110Z
UID:8-277933@leonardsfork.com
DTSTART:20260830T140000Z
DTEND:20260830T150000Z
CLASS:PUBLIC
CREATED:20260421T105737
DESCRIPTION:
LAST-MODIFIED:20260421T105737
LOCATION:
SUMMARY:Sunday School
URL;VALUE=URI:https://www.leonardsfork.com/events/sunday-school/2026-08-30
END:VEVENT
END:VCALENDAR
