BEGIN:VCALENDAR
VERSION:2.0
PRODID:icalendar-ruby
CALSCALE:GREGORIAN
METHOD:PUBLISH
BEGIN:VEVENT
DTSTAMP:20260421T231708Z
UID:8-278369@leonardsfork.com
DTSTART:20260927T140000Z
DTEND:20260927T150000Z
CLASS:PUBLIC
CREATED:20260421T185212
DESCRIPTION:
LAST-MODIFIED:20260421T185212
LOCATION:
SUMMARY:Sunday School
URL;VALUE=URI:https://www.leonardsfork.com/events/sunday-school/2026-09-27
END:VEVENT
END:VCALENDAR
