BEGIN:VCALENDAR
VERSION:2.0
PRODID:icalendar-ruby
CALSCALE:GREGORIAN
METHOD:PUBLISH
BEGIN:VEVENT
DTSTAMP:20260422T005751Z
UID:8-278370@leonardsfork.com
DTSTART:20261004T140000Z
DTEND:20261004T150000Z
CLASS:PUBLIC
CREATED:20260421T185212
DESCRIPTION:
LAST-MODIFIED:20260421T185212
LOCATION:
SUMMARY:Sunday School
URL;VALUE=URI:https://www.leonardsfork.com/events/sunday-school/2026-10-04
END:VEVENT
END:VCALENDAR
