BEGIN:VCALENDAR
VERSION:2.0
PRODID:icalendar-ruby
CALSCALE:GREGORIAN
METHOD:PUBLISH
BEGIN:VEVENT
DTSTAMP:20260422T063634Z
UID:8-278517@leonardsfork.com
DTSTART:20261025T140000Z
DTEND:20261025T150000Z
CLASS:PUBLIC
CREATED:20260421T213040
DESCRIPTION:
LAST-MODIFIED:20260421T213040
LOCATION:
SUMMARY:Sunday School
URL;VALUE=URI:https://www.leonardsfork.com/events/sunday-school/2026-10-25
END:VEVENT
END:VCALENDAR
