BEGIN:VCALENDAR
VERSION:2.0
PRODID:icalendar-ruby
CALSCALE:GREGORIAN
METHOD:PUBLISH
BEGIN:VEVENT
DTSTAMP:20260421T104113Z
UID:7-277574@leonardsfork.com
DTSTART:20260906T150000Z
DTEND:20260906T160000Z
CLASS:PUBLIC
CREATED:20260420T211453
DESCRIPTION:
LAST-MODIFIED:20260420T211453
LOCATION:Main Sanctuary
SUMMARY:Worship Service
URL;VALUE=URI:https://www.leonardsfork.com/events/worship-service--7/2026-0
 9-06
END:VEVENT
END:VCALENDAR
