BEGIN:VCALENDAR
VERSION:2.0
PRODID:icalendar-ruby
CALSCALE:GREGORIAN
METHOD:PUBLISH
BEGIN:VEVENT
DTSTAMP:20260421T135213Z
UID:7-277720@leonardsfork.com
DTSTART:20260920T150000Z
DTEND:20260920T160000Z
CLASS:PUBLIC
CREATED:20260421T082215
DESCRIPTION:
LAST-MODIFIED:20260421T082215
LOCATION:Main Sanctuary
SUMMARY:Worship Service
URL;VALUE=URI:https://www.leonardsfork.com/events/worship-service--7/2026-0
 9-20
END:VEVENT
END:VCALENDAR
