BEGIN:VCALENDAR
VERSION:2.0
PRODID:icalendar-ruby
CALSCALE:GREGORIAN
METHOD:PUBLISH
BEGIN:VEVENT
DTSTAMP:20260421T154556Z
UID:7-277865@leonardsfork.com
DTSTART:20260927T150000Z
DTEND:20260927T160000Z
CLASS:PUBLIC
CREATED:20260421T105737
DESCRIPTION:
LAST-MODIFIED:20260421T105737
LOCATION:Main Sanctuary
SUMMARY:Worship Service
URL;VALUE=URI:https://www.leonardsfork.com/events/worship-service--7/2026-0
 9-27
END:VEVENT
END:VCALENDAR
