BEGIN:VCALENDAR
VERSION:2.0
PRODID:icalendar-ruby
CALSCALE:GREGORIAN
METHOD:PUBLISH
BEGIN:VEVENT
DTSTAMP:20260421T201923Z
UID:7-278156@leonardsfork.com
DTSTART:20261018T150000Z
DTEND:20261018T160000Z
CLASS:PUBLIC
CREATED:20260421T161341
DESCRIPTION:
LAST-MODIFIED:20260421T161341
LOCATION:Main Sanctuary
SUMMARY:Worship Service
URL;VALUE=URI:https://www.leonardsfork.com/events/worship-service--7/2026-1
 0-18
END:VEVENT
END:VCALENDAR
