BEGIN:VCALENDAR
VERSION:2.0
PRODID:icalendar-ruby
CALSCALE:GREGORIAN
METHOD:PUBLISH
BEGIN:VEVENT
DTSTAMP:20260421T235223Z
UID:7-278302@leonardsfork.com
DTSTART:20261101T160000Z
DTEND:20261101T170000Z
CLASS:PUBLIC
CREATED:20260421T185212
DESCRIPTION:
LAST-MODIFIED:20260421T185212
LOCATION:Main Sanctuary
SUMMARY:Worship Service
URL;VALUE=URI:https://www.leonardsfork.com/events/worship-service--7/2026-1
 1-01
END:VEVENT
END:VCALENDAR
